BEGIN:VCALENDAR
VERSION:2.0
PRODID:-//RCCG Freedom House, London - ECPv6.15.20//NONSGML v1.0//EN
CALSCALE:GREGORIAN
METHOD:PUBLISH
X-WR-CALNAME:RCCG Freedom House, London
X-ORIGINAL-URL:https://rccgfreedomhouseuk.org
X-WR-CALDESC:Events for RCCG Freedom House, London
REFRESH-INTERVAL;VALUE=DURATION:PT1H
X-Robots-Tag:noindex
X-PUBLISHED-TTL:PT1H
BEGIN:VTIMEZONE
TZID:Europe/London
BEGIN:DAYLIGHT
TZOFFSETFROM:+0000
TZOFFSETTO:+0100
TZNAME:BST
DTSTART:20180325T010000
END:DAYLIGHT
BEGIN:STANDARD
TZOFFSETFROM:+0100
TZOFFSETTO:+0000
TZNAME:GMT
DTSTART:20181028T010000
END:STANDARD
BEGIN:DAYLIGHT
TZOFFSETFROM:+0000
TZOFFSETTO:+0100
TZNAME:BST
DTSTART:20190331T010000
END:DAYLIGHT
BEGIN:STANDARD
TZOFFSETFROM:+0100
TZOFFSETTO:+0000
TZNAME:GMT
DTSTART:20191027T010000
END:STANDARD
BEGIN:DAYLIGHT
TZOFFSETFROM:+0000
TZOFFSETTO:+0100
TZNAME:BST
DTSTART:20200329T010000
END:DAYLIGHT
BEGIN:STANDARD
TZOFFSETFROM:+0100
TZOFFSETTO:+0000
TZNAME:GMT
DTSTART:20201025T010000
END:STANDARD
BEGIN:DAYLIGHT
TZOFFSETFROM:+0000
TZOFFSETTO:+0100
TZNAME:BST
DTSTART:20210328T010000
END:DAYLIGHT
BEGIN:STANDARD
TZOFFSETFROM:+0100
TZOFFSETTO:+0000
TZNAME:GMT
DTSTART:20211031T010000
END:STANDARD
BEGIN:DAYLIGHT
TZOFFSETFROM:+0000
TZOFFSETTO:+0100
TZNAME:BST
DTSTART:20220327T010000
END:DAYLIGHT
BEGIN:STANDARD
TZOFFSETFROM:+0100
TZOFFSETTO:+0000
TZNAME:GMT
DTSTART:20221030T010000
END:STANDARD
END:VTIMEZONE
BEGIN:VEVENT
DTSTART;TZID=Europe/London:20201231T213000
DTEND;TZID=Europe/London:20210101T003000
DTSTAMP:20260420T113924
CREATED:20201231T152427Z
LAST-MODIFIED:20201231T152427Z
UID:1221-1609450200-1609461000@rccgfreedomhouseuk.org
SUMMARY:Watch Night 2020
DESCRIPTION:COME WORSHIP AND CELEBRATE WITH US\nAT OUR 2020 WATCH NIGHT AND CROSS OVER SERVICE\nDecember 31\, from 9.30 pm \nPray\, sing\, dance\, worship\, strengthen or renew your commitment to God as you hear His plans for you\, and rejoice into the New Year! \nJoin live on YouTube
URL:https://rccgfreedomhouseuk.org/event/watch-night-2020/
CATEGORIES:Gratitude,Non-denominational,Prayer,Thanksgiving,Watch Night,Worship
ATTACH;FMTTYPE=image/jpeg:https://rccgfreedomhouseuk.org/wp-content/uploads/2020/12/FH-Watchnight-2020.jpg
ORGANIZER;CN="RCCG Freedom House":MAILTO:info@rccgfreedomhouseuk.org
END:VEVENT
BEGIN:VEVENT
DTSTART;VALUE=DATE:20200917
DTEND;VALUE=DATE:20200921
DTSTAMP:20260420T113924
CREATED:20200908T210031Z
LAST-MODIFIED:20200908T210849Z
UID:1209-1600300800-1600646399@rccgfreedomhouseuk.org
SUMMARY:Liberation Conference 2020 - The Price of Negligence
DESCRIPTION:“So what makes us think we can escape if we ignore this great salvation that was first announced by the Lord Jesus himself and then delivered to us by those who heard him speak?” (Hebrews 2:3\, New Living Translation) \nWe are grateful to God to be able to host another episode of the annual Liberation Conference with the theme\, “The Price of Negligence (Hebrews 2:3)”. \nThis year’s conference will be held online with details as follows: \n\nThursday\, 17th September\, 7pm to 9pm – An Evening of Music and Worship\, and the sharing of God’s Word.\nFriday\, 18th September\, 7pm to 9pm – An Evening of Music and Worship\, and the sharing of God’s Word.\n\nZoom details for the 17th and 18th are as follows:\nDirect link (bit.ly/3h72jxt)\nMeeting ID: 835 4671 8099\nPasscode: Lib2020JC3 \n\nSunday\, 20th September\, from 2pm – Thanksgiving Service and Pastor’s Birthday Celebration.\n\nZoom details for the 20th are as follows:\nDirect link (bit.ly/3iNiWyU)\nMeeting ID: 823 0946 3281\nPasscode: A15251 \nSessions can also be viewed on Youtube:\nOur YouTube Channel (youtube.com/RCCGFreedomHouseUK) \nWe hope you will be part of the special time in God’s presence. \nFor privacy reasons YouTube needs your permission to be loaded.I Accept
URL:https://rccgfreedomhouseuk.org/event/liberation-conference-2020-the-price-of-negligence/
CATEGORIES:Conference,Non-denominational,Prayer,Thanksgiving,Worship
ATTACH;FMTTYPE=image/jpeg:https://rccgfreedomhouseuk.org/wp-content/uploads/2020/09/Lib-Conf-2020_edit-scaled.jpg
ORGANIZER;CN="RCCG Freedom House":MAILTO:info@rccgfreedomhouseuk.org
END:VEVENT
BEGIN:VEVENT
DTSTART;TZID=Europe/London:20191231T203000
DTEND;TZID=Europe/London:20200101T003000
DTSTAMP:20260420T113924
CREATED:20191231T152506Z
LAST-MODIFIED:20191231T152900Z
UID:1163-1577824200-1577838600@rccgfreedomhouseuk.org
SUMMARY:Watch Night 2019
DESCRIPTION:COME AND CELEBRATE WITH US\nAT OUR 2019 WATCH NIGHT SERVICE\nDecember 31\, 8.30 pm – 12.30 am \nPray\, sing\, dance\, worship\, strengthen or renew your commitment to God as you hear His plans for you\, and rejoice into the New Year! \nFree entry!
URL:https://rccgfreedomhouseuk.org/event/watchnight-2019/
LOCATION:RCCG Freedom House\, 2 Barmeston Road\, Catford\, London\, SE6 3BH\, United Kingdom
CATEGORIES:Gratitude,Non-denominational,Prayer,Thanksgiving,Watch Night,Worship
ATTACH;FMTTYPE=image/png:https://rccgfreedomhouseuk.org/wp-content/uploads/2019/12/Watchnight-2019.png
ORGANIZER;CN="RCCG Freedom House":MAILTO:info@rccgfreedomhouseuk.org
END:VEVENT
END:VCALENDAR